BEGIN:VCALENDAR
VERSION:2.0
PRODID:-//New Richmond Alpaca Farm - ECPv6.15.13//NONSGML v1.0//EN
CALSCALE:GREGORIAN
METHOD:PUBLISH
X-ORIGINAL-URL:https://www.nralpacafarm.com
X-WR-CALDESC:Events for New Richmond Alpaca Farm
REFRESH-INTERVAL;VALUE=DURATION:PT1H
X-Robots-Tag:noindex
X-PUBLISHED-TTL:PT1H
BEGIN:VTIMEZONE
TZID:UTC
BEGIN:STANDARD
TZOFFSETFROM:+0000
TZOFFSETTO:+0000
TZNAME:UTC
DTSTART:20150101T000000
END:STANDARD
END:VTIMEZONE
BEGIN:VEVENT
DTSTART;TZID=UTC:20231119T110000
DTEND;TZID=UTC:20231119T150000
DTSTAMP:20260423T193526
CREATED:20231102T114616Z
LAST-MODIFIED:20231102T114734Z
UID:4592-1700391600-1700406000@www.nralpacafarm.com
SUMMARY:Shop Open 11am-3pm
DESCRIPTION:
URL:https://www.nralpacafarm.com/event/shop-open/
END:VEVENT
BEGIN:VEVENT
DTSTART;TZID=UTC:20231112T000000
DTEND;TZID=UTC:20231112T000000
DTSTAMP:20260423T193526
CREATED:20231102T114537Z
LAST-MODIFIED:20231102T114537Z
UID:4590-1699747200-1699747200@www.nralpacafarm.com
SUMMARY:Shop Closed today
DESCRIPTION:
URL:https://www.nralpacafarm.com/event/shop-closed-today/
END:VEVENT
BEGIN:VEVENT
DTSTART;TZID=UTC:20231105T110000
DTEND;TZID=UTC:20231105T150000
DTSTAMP:20260423T193526
CREATED:20161003T224505Z
LAST-MODIFIED:20231102T114434Z
UID:2941-1699182000-1699196400@www.nralpacafarm.com
SUMMARY:The Alpaca Shop open from 11am-3pm
DESCRIPTION:
URL:https://www.nralpacafarm.com/event/the-alpaca-shop-open-from-11am-3pm-6/
END:VEVENT
BEGIN:VEVENT
DTSTART;TZID=UTC:20211118T170000
DTEND;TZID=UTC:20211118T200000
DTSTAMP:20260423T193526
CREATED:20210903T220144Z
LAST-MODIFIED:20210903T220144Z
UID:4078-1637254800-1637265600@www.nralpacafarm.com
SUMMARY:Wine + Cheese Night
DESCRIPTION:Join us for Wine and Cheese Night at the Alpaca Shop! Grab your pals and relax for a night of shopping. Last minute gifts? We got you. Anniversary? We’ve got you! Something for you? Treat yourself!\n\nPlease RSVP on Facebook by November 13th to secure your spot!\n+21 – Please drink responsibly.
URL:https://www.nralpacafarm.com/event/wine-cheese-night/
LOCATION:Farm Visit & Shopping Day\, 1240 Bethel New Richmond Rd.\, New Richmond\, OH\, 45157\, United States
END:VEVENT
BEGIN:VEVENT
DTSTART;TZID=UTC:20211030T110000
DTEND;TZID=UTC:20211031T150000
DTSTAMP:20260423T193526
CREATED:20150708T204607Z
LAST-MODIFIED:20210816T134400Z
UID:2012-1635591600-1635692400@www.nralpacafarm.com
SUMMARY:Open House
DESCRIPTION:Please come visit the animals and shop from 11am-3pm.
URL:https://www.nralpacafarm.com/event/open-house-day/
END:VEVENT
BEGIN:VEVENT
DTSTART;TZID=UTC:20211019T180000
DTEND;TZID=UTC:20211019T190000
DTSTAMP:20260423T193526
CREATED:20210905T140007Z
LAST-MODIFIED:20210905T140007Z
UID:4160-1634666400-1634670000@www.nralpacafarm.com
SUMMARY:Yoga at the farm
DESCRIPTION:Come do yoga in the alpaca field.  The animals won’t be in with us\, but near by.  After yoga spend a few minutes with the animals\, then take a walk over to the shop and see what beautiful items we sell. \nCome a few minutes early to get a selfie with an alpaca. \nYoga is free! \nBring a mat and water!
URL:https://www.nralpacafarm.com/event/yoga-at-the-farm-2/
END:VEVENT
BEGIN:VEVENT
DTSTART;TZID=UTC:20211005T180000
DTEND;TZID=UTC:20211005T190000
DTSTAMP:20260423T193526
CREATED:20200904T183218Z
LAST-MODIFIED:20210905T135809Z
UID:3896-1633456800-1633460400@www.nralpacafarm.com
SUMMARY:Yoga at The Farm
DESCRIPTION:Come do yoga in the alpaca field.  The animals won’t be in with us\, but near by.  After yoga spend a few minutes with the animals\, then take a walk over to the shop and see what beautiful items we sell. \nCome a few minutes early to get a selfie with an alpaca. \nYoga is free! \nBring a mat and water! \n 
URL:https://www.nralpacafarm.com/event/yoga-at-the-farm/
END:VEVENT
BEGIN:VEVENT
DTSTART;TZID=UTC:20201003T110000
DTEND;TZID=UTC:20201003T150000
DTSTAMP:20260423T193526
CREATED:20161003T224553Z
LAST-MODIFIED:20200904T183009Z
UID:2943-1601722800-1601737200@www.nralpacafarm.com
SUMMARY:The Alpaca Shop open from 11am-3pm
DESCRIPTION:
URL:https://www.nralpacafarm.com/event/the-alpaca-shop-open-from-11am-3pm-7/
END:VEVENT
BEGIN:VEVENT
DTSTART;TZID=UTC:20180324T080000
DTEND;TZID=UTC:20180324T170000
DTSTAMP:20260423T193526
CREATED:20171124T205914Z
LAST-MODIFIED:20180309T194259Z
UID:3146-1521878400-1521910800@www.nralpacafarm.com
SUMMARY:The Alpaca Shop and Much Much More 11am-3pm
DESCRIPTION:
URL:https://www.nralpacafarm.com/event/the-alpaca-shop-and-much-much-more-2/
END:VEVENT
BEGIN:VEVENT
DTSTART;TZID=UTC:20180317T110000
DTEND;TZID=UTC:20180317T150000
DTSTAMP:20260423T193526
CREATED:20171124T210024Z
LAST-MODIFIED:20180309T193746Z
UID:3148-1521284400-1521298800@www.nralpacafarm.com
SUMMARY:The Alpaca Shop and Much Much More 11am-3pm
DESCRIPTION:
URL:https://www.nralpacafarm.com/event/the-alpaca-shop-and-much-much-more-3/
END:VEVENT
BEGIN:VEVENT
DTSTART;TZID=UTC:20180310T110000
DTEND;TZID=UTC:20180310T150000
DTSTAMP:20260423T193526
CREATED:20171124T210143Z
LAST-MODIFIED:20180309T193614Z
UID:3150-1520679600-1520694000@www.nralpacafarm.com
SUMMARY:The Alpaca Shop and Much Much More 11am-3pm
DESCRIPTION:
URL:https://www.nralpacafarm.com/event/the-alpaca-shop-and-much-much-more-4/
END:VEVENT
BEGIN:VEVENT
DTSTART;TZID=UTC:20171202T080000
DTEND;TZID=UTC:20171203T170000
DTSTAMP:20260423T193526
CREATED:20171124T205818Z
LAST-MODIFIED:20171124T210430Z
UID:3144-1512201600-1512320400@www.nralpacafarm.com
SUMMARY:The Alpaca Shop and Much Much More 11am-3pm
DESCRIPTION:Open every Sat & Sun until Christmas from 11am-3pm
URL:https://www.nralpacafarm.com/event/the-alpaca-shop-and-much-much-more/
END:VEVENT
BEGIN:VEVENT
DTSTART;TZID=UTC:20161126T110000
DTEND;TZID=UTC:20161126T150000
DTSTAMP:20260423T193526
CREATED:20160708T010835Z
LAST-MODIFIED:20160811T163532Z
UID:1953-1480158000-1480172400@www.nralpacafarm.com
SUMMARY:Shop 'til you drop at the farm
DESCRIPTION:Avoid the malls and buy a unique one of kind gift made from the alpaca fiber.
URL:https://www.nralpacafarm.com/event/shop-til-you-drop-at-the-farm/
END:VEVENT
BEGIN:VEVENT
DTSTART;TZID=UTC:20161119T110000
DTEND;TZID=UTC:20161119T150000
DTSTAMP:20260423T193526
CREATED:20161003T224404Z
LAST-MODIFIED:20161003T224404Z
UID:2939-1479553200-1479567600@www.nralpacafarm.com
SUMMARY:The Alpaca Shop now open from 11am-3pm
DESCRIPTION:
URL:https://www.nralpacafarm.com/event/the-alpaca-shop-now-open-from-11am-3pm-2/
END:VEVENT
BEGIN:VEVENT
DTSTART;TZID=UTC:20161112T110000
DTEND;TZID=UTC:20161112T150000
DTSTAMP:20260423T193526
CREATED:20161003T224323Z
LAST-MODIFIED:20161003T224323Z
UID:2937-1478948400-1478962800@www.nralpacafarm.com
SUMMARY:The Alpaca Shop open from 11am-3pm
DESCRIPTION:
URL:https://www.nralpacafarm.com/event/the-alpaca-shop-open-from-11am-3pm-5/
END:VEVENT
BEGIN:VEVENT
DTSTART;TZID=UTC:20161105T110000
DTEND;TZID=UTC:20161105T150000
DTSTAMP:20260423T193526
CREATED:20161003T224239Z
LAST-MODIFIED:20161003T224239Z
UID:2935-1478343600-1478358000@www.nralpacafarm.com
SUMMARY:The Alpaca Shop open from 11am-3pm
DESCRIPTION:
URL:https://www.nralpacafarm.com/event/the-alpaca-shop-open-from-11am-3pm-4/
END:VEVENT
BEGIN:VEVENT
DTSTART;TZID=UTC:20161029T110000
DTEND;TZID=UTC:20161029T150000
DTSTAMP:20260423T193526
CREATED:20161003T223853Z
LAST-MODIFIED:20161003T224942Z
UID:2927-1477738800-1477753200@www.nralpacafarm.com
SUMMARY:The Alpaca Shop now open from 11am-3pm
DESCRIPTION:
URL:https://www.nralpacafarm.com/event/the-alpaca-shop-now-open-from-11am-3pm/
END:VEVENT
BEGIN:VEVENT
DTSTART;TZID=UTC:20161022T110000
DTEND;TZID=UTC:20161022T150000
DTSTAMP:20260423T193526
CREATED:20161003T224030Z
LAST-MODIFIED:20161003T225028Z
UID:2929-1477134000-1477148400@www.nralpacafarm.com
SUMMARY:The Alpaca Shop open from 11am-3pm
DESCRIPTION:
URL:https://www.nralpacafarm.com/event/the-alpaca-shop-open-from-11am-3pm/
END:VEVENT
END:VCALENDAR